BEGIN:VCALENDAR
VERSION:2.0
PRODID:-//Jeddah Knowledge International School - مدرسة المعرفة العالمية بجدة - ECPv6.15.11//NONSGML v1.0//EN
CALSCALE:GREGORIAN
METHOD:PUBLISH
X-WR-CALNAME:Jeddah Knowledge International School - مدرسة المعرفة العالمية بجدة
X-ORIGINAL-URL:https://www.jks.edu.sa
X-WR-CALDESC:Events for Jeddah Knowledge International School - مدرسة المعرفة العالمية بجدة
REFRESH-INTERVAL;VALUE=DURATION:PT1H
X-Robots-Tag:noindex
X-PUBLISHED-TTL:PT1H
BEGIN:VTIMEZONE
TZID:Europe/Moscow
BEGIN:STANDARD
TZOFFSETFROM:+0300
TZOFFSETTO:+0300
TZNAME:MSK
DTSTART:20250101T000000
END:STANDARD
END:VTIMEZONE
BEGIN:VEVENT
DTSTART;VALUE=DATE:20260418
DTEND;VALUE=DATE:20260419
DTSTAMP:20260423T213128
CREATED:20260224T081948Z
LAST-MODIFIED:20260224T081948Z
UID:33638-1776470400-1776556799@www.jks.edu.sa
SUMMARY:Grade 12 BOYS Graduation 2026
DESCRIPTION:
URL:https://www.jks.edu.sa/event/grade-12-boys-graduation-2026/
LOCATION:Makkah Region
END:VEVENT
END:VCALENDAR