BEGIN:VCALENDAR
VERSION:2.0
PRODID:-//Jeddah Knowledge International School - مدرسة المعرفة العالمية بجدة - ECPv6.15.11//NONSGML v1.0//EN
CALSCALE:GREGORIAN
METHOD:PUBLISH
X-WR-CALNAME:Jeddah Knowledge International School - مدرسة المعرفة العالمية بجدة
X-ORIGINAL-URL:https://www.jks.edu.sa/ar
X-WR-CALDESC:Events for Jeddah Knowledge International School - مدرسة المعرفة العالمية بجدة
REFRESH-INTERVAL;VALUE=DURATION:PT1H
X-Robots-Tag:noindex
X-PUBLISHED-TTL:PT1H
BEGIN:VTIMEZONE
TZID:Europe/Moscow
BEGIN:STANDARD
TZOFFSETFROM:+0300
TZOFFSETTO:+0300
TZNAME:MSK
DTSTART:20250101T000000
END:STANDARD
END:VTIMEZONE
BEGIN:VEVENT
DTSTART;TZID=Europe/Moscow:20260423T084500
DTEND;TZID=Europe/Moscow:20260423T121500
DTSTAMP:20260423T224942
CREATED:20260421T060437Z
LAST-MODIFIED:20260421T071522Z
UID:34012-1776933900-1776946500@www.jks.edu.sa
SUMMARY:Grade 5B\, 5E\, and 5.1 Graduation 2025-2026
DESCRIPTION:Content is protected.
URL:https://www.jks.edu.sa/ar/event/grade-5b-5e-and-5-1-graduation-2025-2026/
LOCATION:Auditorium Bldg 2\, 7180 Muhammad Masud\, As Salamah\, Jeddah\, Makkah Region\, 21462\, Saudi Arabia
END:VEVENT
END:VCALENDAR